BEGIN:VCALENDAR
VERSION:2.0
PRODID:-//Rock Rapids - ECPv6.15.20//NONSGML v1.0//EN
CALSCALE:GREGORIAN
METHOD:PUBLISH
X-WR-CALNAME:Rock Rapids
X-ORIGINAL-URL:https://rockrapids.com
X-WR-CALDESC:Events for Rock Rapids
REFRESH-INTERVAL;VALUE=DURATION:PT1H
X-Robots-Tag:noindex
X-PUBLISHED-TTL:PT1H
BEGIN:VTIMEZONE
TZID:America/Chicago
BEGIN:DAYLIGHT
TZOFFSETFROM:-0600
TZOFFSETTO:-0500
TZNAME:CDT
DTSTART:20190310T080000
END:DAYLIGHT
BEGIN:STANDARD
TZOFFSETFROM:-0500
TZOFFSETTO:-0600
TZNAME:CST
DTSTART:20191103T070000
END:STANDARD
BEGIN:DAYLIGHT
TZOFFSETFROM:-0600
TZOFFSETTO:-0500
TZNAME:CDT
DTSTART:20200308T080000
END:DAYLIGHT
BEGIN:STANDARD
TZOFFSETFROM:-0500
TZOFFSETTO:-0600
TZNAME:CST
DTSTART:20201101T070000
END:STANDARD
BEGIN:DAYLIGHT
TZOFFSETFROM:-0600
TZOFFSETTO:-0500
TZNAME:CDT
DTSTART:20210314T080000
END:DAYLIGHT
BEGIN:STANDARD
TZOFFSETFROM:-0500
TZOFFSETTO:-0600
TZNAME:CST
DTSTART:20211107T070000
END:STANDARD
END:VTIMEZONE
BEGIN:VEVENT
DTSTART;TZID=America/Chicago:20200310T100000
DTEND;TZID=America/Chicago:20200310T170000
DTSTAMP:20260420T202244
CREATED:20200310T150129Z
LAST-MODIFIED:20200310T150129Z
UID:5424-1583834400-1583859600@rockrapids.com
SUMMARY:Car Show/Test & Tune
DESCRIPTION:
URL:https://rockrapids.com/event/car-show-test-tune/
LOCATION:Rapid Speedway\, S. Tama St.\, Rock Rapids\, IA\, 51246\, United States
CATEGORIES:Front Page
END:VEVENT
BEGIN:VEVENT
DTSTART;TZID=America/Chicago:20200310T190000
DTEND;TZID=America/Chicago:20200310T203000
DTSTAMP:20260420T202244
CREATED:20200102T211326Z
LAST-MODIFIED:20200102T211326Z
UID:5178-1583866800-1583872200@rockrapids.com
SUMMARY:Central Lyon 5th-12th grade Parade of Bands
DESCRIPTION:
URL:https://rockrapids.com/event/central-lyon-5th-12th-grade-parade-of-bands/
LOCATION:Central Lyon\, 1010 S. Greene St.\, IA\, United States
CATEGORIES:Front Page
END:VEVENT
END:VCALENDAR