BEGIN:VCALENDAR
VERSION:2.0
PRODID:-//Rock Rapids - ECPv6.15.20//NONSGML v1.0//EN
CALSCALE:GREGORIAN
METHOD:PUBLISH
X-WR-CALNAME:Rock Rapids
X-ORIGINAL-URL:https://rockrapids.com
X-WR-CALDESC:Events for Rock Rapids
REFRESH-INTERVAL;VALUE=DURATION:PT1H
X-Robots-Tag:noindex
X-PUBLISHED-TTL:PT1H
BEGIN:VTIMEZONE
TZID:America/Chicago
BEGIN:DAYLIGHT
TZOFFSETFROM:-0600
TZOFFSETTO:-0500
TZNAME:CDT
DTSTART:20190310T080000
END:DAYLIGHT
BEGIN:STANDARD
TZOFFSETFROM:-0500
TZOFFSETTO:-0600
TZNAME:CST
DTSTART:20191103T070000
END:STANDARD
BEGIN:DAYLIGHT
TZOFFSETFROM:-0600
TZOFFSETTO:-0500
TZNAME:CDT
DTSTART:20200308T080000
END:DAYLIGHT
BEGIN:STANDARD
TZOFFSETFROM:-0500
TZOFFSETTO:-0600
TZNAME:CST
DTSTART:20201101T070000
END:STANDARD
BEGIN:DAYLIGHT
TZOFFSETFROM:-0600
TZOFFSETTO:-0500
TZNAME:CDT
DTSTART:20210314T080000
END:DAYLIGHT
BEGIN:STANDARD
TZOFFSETFROM:-0500
TZOFFSETTO:-0600
TZNAME:CST
DTSTART:20211107T070000
END:STANDARD
END:VTIMEZONE
BEGIN:VEVENT
DTSTART;TZID=America/Chicago:20200102T120000
DTEND;TZID=America/Chicago:20200102T130000
DTSTAMP:20260420T202249
CREATED:20191025T204555Z
LAST-MODIFIED:20191025T204742Z
UID:4662-1577966400-1577970000@rockrapids.com
SUMMARY:Kiwanis
DESCRIPTION:
URL:https://rockrapids.com/event/kiwanis-3/
LOCATION:Pizza Ranch\, 205 South Union\, Rock Rapids\, IA\, 51246\, United States
END:VEVENT
BEGIN:VEVENT
DTSTART;TZID=America/Chicago:20200326T173000
DTEND;TZID=America/Chicago:20200326T190000
DTSTAMP:20260420T202249
CREATED:20200102T212004Z
LAST-MODIFIED:20200102T212004Z
UID:5194-1585243800-1585249200@rockrapids.com
SUMMARY:Lyon Co. Conservation Make & Take Dream Catcher Class
DESCRIPTION:Call 472-2217 to reserve a spot.
URL:https://rockrapids.com/event/lyon-co-conservation-make-take-dream-catcher-class/
LOCATION:Rock Rapids\, IA\, 51246\, United States
CATEGORIES:Front Page
END:VEVENT
BEGIN:VEVENT
DTSTART;TZID=America/Chicago:20200326T193000
DTEND;TZID=America/Chicago:20200326T210000
DTSTAMP:20260420T202249
CREATED:20200102T211829Z
LAST-MODIFIED:20200102T211829Z
UID:5192-1585251000-1585256400@rockrapids.com
SUMMARY:Central Lyon High School Swing Show
DESCRIPTION:
URL:https://rockrapids.com/event/central-lyon-high-school-swing-show/
LOCATION:Forster Auditorium
CATEGORIES:Front Page
END:VEVENT
END:VCALENDAR