BEGIN:VCALENDAR
VERSION:2.0
PRODID:-//Rock Rapids - ECPv6.15.20//NONSGML v1.0//EN
CALSCALE:GREGORIAN
METHOD:PUBLISH
X-WR-CALNAME:Rock Rapids
X-ORIGINAL-URL:https://rockrapids.com
X-WR-CALDESC:Events for Rock Rapids
REFRESH-INTERVAL;VALUE=DURATION:PT1H
X-Robots-Tag:noindex
X-PUBLISHED-TTL:PT1H
BEGIN:VTIMEZONE
TZID:America/Chicago
BEGIN:DAYLIGHT
TZOFFSETFROM:-0600
TZOFFSETTO:-0500
TZNAME:CDT
DTSTART:20190310T080000
END:DAYLIGHT
BEGIN:STANDARD
TZOFFSETFROM:-0500
TZOFFSETTO:-0600
TZNAME:CST
DTSTART:20191103T070000
END:STANDARD
BEGIN:DAYLIGHT
TZOFFSETFROM:-0600
TZOFFSETTO:-0500
TZNAME:CDT
DTSTART:20200308T080000
END:DAYLIGHT
BEGIN:STANDARD
TZOFFSETFROM:-0500
TZOFFSETTO:-0600
TZNAME:CST
DTSTART:20201101T070000
END:STANDARD
BEGIN:DAYLIGHT
TZOFFSETFROM:-0600
TZOFFSETTO:-0500
TZNAME:CDT
DTSTART:20210314T080000
END:DAYLIGHT
BEGIN:STANDARD
TZOFFSETFROM:-0500
TZOFFSETTO:-0600
TZNAME:CST
DTSTART:20211107T070000
END:STANDARD
END:VTIMEZONE
BEGIN:VEVENT
DTSTART;TZID=America/Chicago:20200709T130000
DTEND;TZID=America/Chicago:20200709T200000
DTSTAMP:20260420T120640
CREATED:20200510T192607Z
LAST-MODIFIED:20200701T162351Z
UID:30657-1594299600-1594324800@rockrapids.com
SUMMARY:Rock Rapids Cleanup Days 2020
DESCRIPTION:Rock Rapids Cleanup Days 2020\nJuly 9th 1:00-8:00pm  & July 11th  8:00 am – Noon\nThis year the format for cleanup days is new. We will have a central drop off location that will be open 2 different times help accommodate busy schedules. The new procedure is joint decision between the public works department and the garbage contractors\, in an effort to keep costs down\, prevent out of town garbage from being disposed of in the city cleanup days\, and to prevent messes caused by damaged items as people rummaged through piles.  \nDrop off will be in the city lot between 2nd and 3rd ave. Please enter from the north off of 2nd ave\, and exit to the south onto 3rd Ave. There will be workers there that will help direct you\, and they will have the tags for the appliances and other electronic items that require stickers available for purchase.  \nIf you have concerns about getting items to the drop off\, there have been numerous offers from local church groups and neighbors to help\, just ask. You may also contact your garbage contractor about any other pickup options. For questions\, call 472-2553.
URL:https://rockrapids.com/event/rock-rapids-cleanup-days-2020/
LOCATION:IA\, United States
CATEGORIES:Front Page
END:VEVENT
END:VCALENDAR