BEGIN:VCALENDAR
VERSION:2.0
PRODID:-//Rock Rapids - ECPv6.15.20//NONSGML v1.0//EN
CALSCALE:GREGORIAN
METHOD:PUBLISH
X-WR-CALNAME:Rock Rapids
X-ORIGINAL-URL:https://rockrapids.com
X-WR-CALDESC:Events for Rock Rapids
REFRESH-INTERVAL;VALUE=DURATION:PT1H
X-Robots-Tag:noindex
X-PUBLISHED-TTL:PT1H
BEGIN:VTIMEZONE
TZID:America/Chicago
BEGIN:DAYLIGHT
TZOFFSETFROM:-0600
TZOFFSETTO:-0500
TZNAME:CDT
DTSTART:20190310T080000
END:DAYLIGHT
BEGIN:STANDARD
TZOFFSETFROM:-0500
TZOFFSETTO:-0600
TZNAME:CST
DTSTART:20191103T070000
END:STANDARD
BEGIN:DAYLIGHT
TZOFFSETFROM:-0600
TZOFFSETTO:-0500
TZNAME:CDT
DTSTART:20200308T080000
END:DAYLIGHT
BEGIN:STANDARD
TZOFFSETFROM:-0500
TZOFFSETTO:-0600
TZNAME:CST
DTSTART:20201101T070000
END:STANDARD
BEGIN:DAYLIGHT
TZOFFSETFROM:-0600
TZOFFSETTO:-0500
TZNAME:CDT
DTSTART:20210314T080000
END:DAYLIGHT
BEGIN:STANDARD
TZOFFSETFROM:-0500
TZOFFSETTO:-0600
TZNAME:CST
DTSTART:20211107T070000
END:STANDARD
BEGIN:DAYLIGHT
TZOFFSETFROM:-0600
TZOFFSETTO:-0500
TZNAME:CDT
DTSTART:20220313T080000
END:DAYLIGHT
BEGIN:STANDARD
TZOFFSETFROM:-0500
TZOFFSETTO:-0600
TZNAME:CST
DTSTART:20221106T070000
END:STANDARD
END:VTIMEZONE
BEGIN:VEVENT
DTSTART;TZID=America/Chicago:20210127T073000
DTEND;TZID=America/Chicago:20210127T153000
DTSTAMP:20260420T153459
CREATED:20210113T163746Z
LAST-MODIFIED:20210113T163746Z
UID:31562-1611732600-1611761400@rockrapids.com
SUMMARY:Community Blood Drive
DESCRIPTION:
URL:https://rockrapids.com/event/community-blood-drive-4/
LOCATION:Central Lyon CSD\, 1010 South Greene St.\, Rock Rapids\, IA\, 51246\, United States
CATEGORIES:Front Page
END:VEVENT
BEGIN:VEVENT
DTSTART;TZID=America/Chicago:20200819T141500
DTEND;TZID=America/Chicago:20200819T170000
DTSTAMP:20260420T153459
CREATED:20200811T190008Z
LAST-MODIFIED:20210113T162650Z
UID:30937-1597846500-1597856400@rockrapids.com
SUMMARY:Central Lyon 2:15 pm Dismissal
DESCRIPTION:
URL:https://rockrapids.com/event/central-lyon-215-pm-dismissal/
LOCATION:Rock Rapids\, IA\, 51246\, United States
END:VEVENT
BEGIN:VEVENT
DTSTART;TZID=America/Chicago:20210127T180000
DTEND;TZID=America/Chicago:20210127T190000
DTSTAMP:20260420T153459
CREATED:20210113T163251Z
LAST-MODIFIED:20210113T163251Z
UID:31547-1611770400-1611774000@rockrapids.com
SUMMARY:Atlas Bread of Life Food Ministry
DESCRIPTION:
URL:https://rockrapids.com/event/atlas-bread-of-life-food-ministry-13/
LOCATION:Forster Community Center
END:VEVENT
END:VCALENDAR