BEGIN:VCALENDAR
VERSION:2.0
PRODID:-//Rock Rapids - ECPv6.15.20//NONSGML v1.0//EN
CALSCALE:GREGORIAN
METHOD:PUBLISH
X-WR-CALNAME:Rock Rapids
X-ORIGINAL-URL:https://rockrapids.com
X-WR-CALDESC:Events for Rock Rapids
REFRESH-INTERVAL;VALUE=DURATION:PT1H
X-Robots-Tag:noindex
X-PUBLISHED-TTL:PT1H
BEGIN:VTIMEZONE
TZID:America/Chicago
BEGIN:DAYLIGHT
TZOFFSETFROM:-0600
TZOFFSETTO:-0500
TZNAME:CDT
DTSTART:20200308T080000
END:DAYLIGHT
BEGIN:STANDARD
TZOFFSETFROM:-0500
TZOFFSETTO:-0600
TZNAME:CST
DTSTART:20201101T070000
END:STANDARD
BEGIN:DAYLIGHT
TZOFFSETFROM:-0600
TZOFFSETTO:-0500
TZNAME:CDT
DTSTART:20210314T080000
END:DAYLIGHT
BEGIN:STANDARD
TZOFFSETFROM:-0500
TZOFFSETTO:-0600
TZNAME:CST
DTSTART:20211107T070000
END:STANDARD
BEGIN:DAYLIGHT
TZOFFSETFROM:-0600
TZOFFSETTO:-0500
TZNAME:CDT
DTSTART:20220313T080000
END:DAYLIGHT
BEGIN:STANDARD
TZOFFSETFROM:-0500
TZOFFSETTO:-0600
TZNAME:CST
DTSTART:20221106T070000
END:STANDARD
END:VTIMEZONE
BEGIN:VEVENT
DTSTART;TZID=America/Chicago:20210318T090000
DTEND;TZID=America/Chicago:20210320T170000
DTSTAMP:20260420T120637
CREATED:20210226T152403Z
LAST-MODIFIED:20210312T214916Z
UID:31888-1616058000-1616259600@rockrapids.com
SUMMARY:Spring Open Houses
DESCRIPTION:Join participating businesses for Spring Open Houses.
URL:https://rockrapids.com/event/spring-open-houses-4/
LOCATION:Rock Rapids\, IA\, 51246\, United States
CATEGORIES:Front Page
END:VEVENT
BEGIN:VEVENT
DTSTART;TZID=America/Chicago:20210320T080000
DTEND;TZID=America/Chicago:20210320T170000
DTSTAMP:20260420T120637
CREATED:20210226T160350Z
LAST-MODIFIED:20210226T160350Z
UID:31977-1616227200-1616259600@rockrapids.com
SUMMARY:Spring Begins
DESCRIPTION:
URL:https://rockrapids.com/event/spring-begins/
LOCATION:Rock Rapids\, IA\, 51246\, United States
END:VEVENT
BEGIN:VEVENT
DTSTART;TZID=America/Chicago:20210320T190000
DTEND;TZID=America/Chicago:20210320T230000
DTSTAMP:20260420T120637
CREATED:20210226T151648Z
LAST-MODIFIED:20210226T151648Z
UID:31866-1616266800-1616281200@rockrapids.com
SUMMARY:Central Lyon Spring Formal
DESCRIPTION:
URL:https://rockrapids.com/event/central-lyon-spring-formal/
LOCATION:Central Lyon\, 1010 S. Greene St.\, IA\, United States
CATEGORIES:Front Page
END:VEVENT
END:VCALENDAR