BEGIN:VCALENDAR
VERSION:2.0
PRODID:-//Rock Rapids - ECPv6.15.20//NONSGML v1.0//EN
CALSCALE:GREGORIAN
METHOD:PUBLISH
X-WR-CALNAME:Rock Rapids
X-ORIGINAL-URL:https://rockrapids.com
X-WR-CALDESC:Events for Rock Rapids
REFRESH-INTERVAL;VALUE=DURATION:PT1H
X-Robots-Tag:noindex
X-PUBLISHED-TTL:PT1H
BEGIN:VTIMEZONE
TZID:America/Chicago
BEGIN:DAYLIGHT
TZOFFSETFROM:-0600
TZOFFSETTO:-0500
TZNAME:CDT
DTSTART:20210314T080000
END:DAYLIGHT
BEGIN:STANDARD
TZOFFSETFROM:-0500
TZOFFSETTO:-0600
TZNAME:CST
DTSTART:20211107T070000
END:STANDARD
BEGIN:DAYLIGHT
TZOFFSETFROM:-0600
TZOFFSETTO:-0500
TZNAME:CDT
DTSTART:20220313T080000
END:DAYLIGHT
BEGIN:STANDARD
TZOFFSETFROM:-0500
TZOFFSETTO:-0600
TZNAME:CST
DTSTART:20221106T070000
END:STANDARD
BEGIN:DAYLIGHT
TZOFFSETFROM:-0600
TZOFFSETTO:-0500
TZNAME:CDT
DTSTART:20230312T080000
END:DAYLIGHT
BEGIN:STANDARD
TZOFFSETFROM:-0500
TZOFFSETTO:-0600
TZNAME:CST
DTSTART:20231105T070000
END:STANDARD
END:VTIMEZONE
BEGIN:VEVENT
DTSTART;TZID=America/Chicago:20220120T090000
DTEND;TZID=America/Chicago:20220122T180000
DTSTAMP:20260420T203056
CREATED:20220114T154402Z
LAST-MODIFIED:20220114T154402Z
UID:36963-1642669200-1642874400@rockrapids.com
SUMMARY:Winter Crazy Days
DESCRIPTION:Join participating Rock Rapids businesses for Winter Crazy Days!\nBusinesses will stay open until 6 pm on Thursday\, Jan. 20.\nCheck individual businesses for varying store hours Friday & Saturday.
URL:https://rockrapids.com/event/winter-crazy-days-2/
LOCATION:Rock Rapids\, IA\, 51246\, United States
CATEGORIES:Front Page
END:VEVENT
BEGIN:VEVENT
DTSTART;TZID=America/Chicago:20220120T090000
DTEND;TZID=America/Chicago:20220122T180000
DTSTAMP:20260420T203056
CREATED:20220114T154402Z
LAST-MODIFIED:20220114T154402Z
UID:36963-1642669200-1642874400@rockrapids.com
SUMMARY:Winter Crazy Days
DESCRIPTION:Join participating Rock Rapids businesses for Winter Crazy Days!\nBusinesses will stay open until 6 pm on Thursday\, Jan. 20.\nCheck individual businesses for varying store hours Friday & Saturday.
URL:https://rockrapids.com/event/winter-crazy-days-2/
LOCATION:Rock Rapids\, IA\, 51246\, United States
CATEGORIES:Front Page
END:VEVENT
BEGIN:VEVENT
DTSTART;TZID=America/Chicago:20220122T150000
DTEND;TZID=America/Chicago:20220122T170000
DTSTAMP:20260420T203056
CREATED:20220114T161314Z
LAST-MODIFIED:20220114T161314Z
UID:36979-1642863600-1642870800@rockrapids.com
SUMMARY:Lake Pahoja Kid's Ice Fishing Clinic
DESCRIPTION:  \nAnnual Kid’s Ice Fishing Clinic \nSaturday\, January 22 \n3-5pm \nLake Pahoja (East Shelter) \nCome out to Lake Pahoja and have a great time ice fishing for prizes.  Registrations start at the East Shelter at 2:30 pm (free\, but must register to win prizes and preregistration is not needed).  Special prizes for youth-largest and most fish caught and a door prize for all youth participants.   Bluegill must be 5” or bigger and walleye and bass must be 15” or bigger to qualify.  Bait will be provided for youth participants at the shelter. \nParticipants 16 and older license required \nDon’t have equipment or have never.  No worries\, come to the East Shelter after 3pm and get the basics in ice fishing and try your luck with some local experts:) Tackle will be provided.  Just take a bucket or chair to sit on. Adults taking youth will registered to win a Scheel’s gift cards for $25.
URL:https://rockrapids.com/event/lake-pahoja-kids-ice-fishing-clinic-2/
LOCATION:Lake Pahoja-East Shelter\, Rock Rapids\, IA\, 51246\, United States
CATEGORIES:Front Page
END:VEVENT
END:VCALENDAR