BEGIN:VCALENDAR
VERSION:2.0
PRODID:-//Rock Rapids - ECPv6.15.20//NONSGML v1.0//EN
CALSCALE:GREGORIAN
METHOD:PUBLISH
X-WR-CALNAME:Rock Rapids
X-ORIGINAL-URL:https://rockrapids.com
X-WR-CALDESC:Events for Rock Rapids
REFRESH-INTERVAL;VALUE=DURATION:PT1H
X-Robots-Tag:noindex
X-PUBLISHED-TTL:PT1H
BEGIN:VTIMEZONE
TZID:America/Chicago
BEGIN:DAYLIGHT
TZOFFSETFROM:-0600
TZOFFSETTO:-0500
TZNAME:CDT
DTSTART:20180311T080000
END:DAYLIGHT
BEGIN:STANDARD
TZOFFSETFROM:-0500
TZOFFSETTO:-0600
TZNAME:CST
DTSTART:20181104T070000
END:STANDARD
BEGIN:DAYLIGHT
TZOFFSETFROM:-0600
TZOFFSETTO:-0500
TZNAME:CDT
DTSTART:20190310T080000
END:DAYLIGHT
BEGIN:STANDARD
TZOFFSETFROM:-0500
TZOFFSETTO:-0600
TZNAME:CST
DTSTART:20191103T070000
END:STANDARD
BEGIN:DAYLIGHT
TZOFFSETFROM:-0600
TZOFFSETTO:-0500
TZNAME:CDT
DTSTART:20200308T080000
END:DAYLIGHT
BEGIN:STANDARD
TZOFFSETFROM:-0500
TZOFFSETTO:-0600
TZNAME:CST
DTSTART:20201101T070000
END:STANDARD
BEGIN:DAYLIGHT
TZOFFSETFROM:-0600
TZOFFSETTO:-0500
TZNAME:CDT
DTSTART:20210314T080000
END:DAYLIGHT
BEGIN:STANDARD
TZOFFSETFROM:-0500
TZOFFSETTO:-0600
TZNAME:CST
DTSTART:20211107T070000
END:STANDARD
BEGIN:DAYLIGHT
TZOFFSETFROM:-0600
TZOFFSETTO:-0500
TZNAME:CDT
DTSTART:20220313T080000
END:DAYLIGHT
BEGIN:STANDARD
TZOFFSETFROM:-0500
TZOFFSETTO:-0600
TZNAME:CST
DTSTART:20221106T070000
END:STANDARD
END:VTIMEZONE
BEGIN:VEVENT
DTSTART;TZID=America/Chicago:20210220T080000
DTEND;TZID=America/Chicago:20210220T100000
DTSTAMP:20260420T173237
CREATED:20210113T162926Z
LAST-MODIFIED:20210211T170417Z
UID:31538-1613808000-1613815200@rockrapids.com
SUMMARY:Eggs & Issues
DESCRIPTION:Join State Senator Zach Whiting & State Representative John Wills for an open legislative forum. \nRolls & coffee will be served \nFree will donation
URL:https://rockrapids.com/event/eggs-issues-5/
LOCATION:Forster Community Center
CATEGORIES:Front Page
ORGANIZER;CN="Angie Jager":MAILTO:chamber@rockrapids.com
END:VEVENT
BEGIN:VEVENT
DTSTART;TZID=America/Chicago:20190311T174500
DTEND;TZID=America/Chicago:20190311T190000
DTSTAMP:20260420T173237
CREATED:20190301T162952Z
LAST-MODIFIED:20190301T162952Z
UID:2179-1552326300-1552330800@rockrapids.com
SUMMARY:City Council
DESCRIPTION:
URL:https://rockrapids.com/event/city-council/
LOCATION:Forster Community Center
END:VEVENT
BEGIN:VEVENT
DTSTART;TZID=America/Chicago:20200819T141500
DTEND;TZID=America/Chicago:20200819T170000
DTSTAMP:20260420T173237
CREATED:20200811T190008Z
LAST-MODIFIED:20210113T162650Z
UID:30937-1597846500-1597856400@rockrapids.com
SUMMARY:Central Lyon 2:15 pm Dismissal
DESCRIPTION:
URL:https://rockrapids.com/event/central-lyon-215-pm-dismissal/
LOCATION:Rock Rapids\, IA\, 51246\, United States
END:VEVENT
BEGIN:VEVENT
DTSTART;TZID=America/Chicago:20210224T180000
DTEND;TZID=America/Chicago:20210224T190000
DTSTAMP:20260420T173237
CREATED:20210113T163134Z
LAST-MODIFIED:20210113T163155Z
UID:31544-1614189600-1614193200@rockrapids.com
SUMMARY:Atlas Bread of Life Food Ministry
DESCRIPTION:
URL:https://rockrapids.com/event/atlas-bread-of-life-food-ministry-12/
LOCATION:Forster Community Center
END:VEVENT
BEGIN:VEVENT
DTSTART;TZID=America/Chicago:20200102T120000
DTEND;TZID=America/Chicago:20200102T130000
DTSTAMP:20260420T173237
CREATED:20191025T204555Z
LAST-MODIFIED:20191025T204742Z
UID:4662-1577966400-1577970000@rockrapids.com
SUMMARY:Kiwanis
DESCRIPTION:
URL:https://rockrapids.com/event/kiwanis-3/
LOCATION:Pizza Ranch\, 205 South Union\, Rock Rapids\, IA\, 51246\, United States
END:VEVENT
BEGIN:VEVENT
DTSTART;TZID=America/Chicago:20210301T120000
DTEND;TZID=America/Chicago:20210301T130000
DTSTAMP:20260420T173237
CREATED:20210226T151825Z
LAST-MODIFIED:20210226T151825Z
UID:31873-1614600000-1614603600@rockrapids.com
SUMMARY:Heritage Days
DESCRIPTION:
URL:https://rockrapids.com/event/heritage-days-5/
LOCATION:Chamber Office\, Rock Rapids\, IA\, 51246\, United States
END:VEVENT
BEGIN:VEVENT
DTSTART;TZID=America/Chicago:20190701T190000
DTEND;TZID=America/Chicago:20190701T200000
DTSTAMP:20260420T173237
CREATED:20190625T192013Z
LAST-MODIFIED:20190625T192721Z
UID:3567-1562007600-1562011200@rockrapids.com
SUMMARY:American Legion Auxiliary
DESCRIPTION:
URL:https://rockrapids.com/event/vfw-auxiliary-3/
LOCATION:Forster Community Center
END:VEVENT
BEGIN:VEVENT
DTSTART;TZID=America/Chicago:20200107T120000
DTEND;TZID=America/Chicago:20200107T130000
DTSTAMP:20260420T173237
CREATED:20191025T205104Z
LAST-MODIFIED:20191025T205104Z
UID:4697-1578398400-1578402000@rockrapids.com
SUMMARY:Chamber Board
DESCRIPTION:
URL:https://rockrapids.com/event/chamber-board/
LOCATION:Chamber Office\, Rock Rapids\, IA\, 51246\, United States
END:VEVENT
BEGIN:VEVENT
DTSTART;TZID=America/Chicago:20200819T141500
DTEND;TZID=America/Chicago:20200819T170000
DTSTAMP:20260420T173237
CREATED:20200811T190008Z
LAST-MODIFIED:20210113T162650Z
UID:30937-1597846500-1597856400@rockrapids.com
SUMMARY:Central Lyon 2:15 pm Dismissal
DESCRIPTION:
URL:https://rockrapids.com/event/central-lyon-215-pm-dismissal/
LOCATION:Rock Rapids\, IA\, 51246\, United States
END:VEVENT
BEGIN:VEVENT
DTSTART;TZID=America/Chicago:20210308T173000
DTEND;TZID=America/Chicago:20210308T203000
DTSTAMP:20260420T173237
CREATED:20210226T155938Z
LAST-MODIFIED:20210226T155938Z
UID:31947-1615224600-1615235400@rockrapids.com
SUMMARY:Central Lyon Parent Teacher Conferences
DESCRIPTION:
URL:https://rockrapids.com/event/central-lyon-parent-teacher-conferences-5/
LOCATION:Central Lyon\, 1010 S. Greene St.\, IA\, United States
CATEGORIES:Front Page
END:VEVENT
BEGIN:VEVENT
DTSTART;TZID=America/Chicago:20190311T190000
DTEND;TZID=America/Chicago:20190311T203000
DTSTAMP:20260420T173237
CREATED:20190301T163200Z
LAST-MODIFIED:20190301T163200Z
UID:2182-1552330800-1552336200@rockrapids.com
SUMMARY:Central Lyon School Board
DESCRIPTION:
URL:https://rockrapids.com/event/central-lyon-school-board/
LOCATION:Central Lyon CSD\, 1010 South Greene St.\, Rock Rapids\, IA\, 51246\, United States
END:VEVENT
BEGIN:VEVENT
DTSTART;TZID=America/Chicago:20190311T193000
DTEND;TZID=America/Chicago:20190311T203000
DTSTAMP:20260420T173237
CREATED:20190301T163340Z
LAST-MODIFIED:20190301T163340Z
UID:2186-1552332600-1552336200@rockrapids.com
SUMMARY:American Legion
DESCRIPTION:
URL:https://rockrapids.com/event/american-legion/
LOCATION:Forster Community Center
END:VEVENT
BEGIN:VEVENT
DTSTART;TZID=America/Chicago:20190311T193000
DTEND;TZID=America/Chicago:20190311T203000
DTSTAMP:20260420T173237
CREATED:20190301T163411Z
LAST-MODIFIED:20190301T163411Z
UID:2188-1552332600-1552336200@rockrapids.com
SUMMARY:VFW Auxiliary
DESCRIPTION:
URL:https://rockrapids.com/event/vfw-auxiliary/
LOCATION:IA
END:VEVENT
BEGIN:VEVENT
DTSTART;TZID=America/Chicago:20190708T193000
DTEND;TZID=America/Chicago:20190708T203000
DTSTAMP:20260420T173237
CREATED:20190625T192221Z
LAST-MODIFIED:20190625T192221Z
UID:3593-1562614200-1562617800@rockrapids.com
SUMMARY:American Legion
DESCRIPTION:
URL:https://rockrapids.com/event/american-legion-3/
LOCATION:Forster Community Center
END:VEVENT
BEGIN:VEVENT
DTSTART;TZID=America/Chicago:20190708T193000
DTEND;TZID=America/Chicago:20190708T203000
DTSTAMP:20260420T173237
CREATED:20190625T192826Z
LAST-MODIFIED:20190625T192826Z
UID:3642-1562614200-1562617800@rockrapids.com
SUMMARY:VFW Auxiliary
DESCRIPTION:
URL:https://rockrapids.com/event/vfw-auxiliary-4/
LOCATION:VFW\, Rock Rapids\, IA\, 51246\, United States
END:VEVENT
BEGIN:VEVENT
DTSTART;TZID=America/Chicago:20200113T193000
DTEND;TZID=America/Chicago:20200113T203000
DTSTAMP:20260420T173237
CREATED:20200102T204013Z
LAST-MODIFIED:20200102T204013Z
UID:5114-1578943800-1578947400@rockrapids.com
SUMMARY:VFW Auxiliary
DESCRIPTION:
URL:https://rockrapids.com/event/vfw-auxiliary-7/
LOCATION:VFW\, Rock Rapids\, IA\, 51246\, United States
END:VEVENT
BEGIN:VEVENT
DTSTART;TZID=America/Chicago:20210309T190000
DTEND;TZID=America/Chicago:20210309T203000
DTSTAMP:20260420T173238
CREATED:20210226T152512Z
LAST-MODIFIED:20210226T152512Z
UID:31892-1615316400-1615321800@rockrapids.com
SUMMARY:Central Lyon Parade of Bands
DESCRIPTION:
URL:https://rockrapids.com/event/central-lyon-parade-of-bands-2/
LOCATION:Central Lyon High School Gym\, 1010 S. Greene St.\, Rock Rapids\, IA\, 51246\, United States
CATEGORIES:Front Page
END:VEVENT
BEGIN:VEVENT
DTSTART;TZID=America/Chicago:20190313T130000
DTEND;TZID=America/Chicago:20190313T150000
DTSTAMP:20260420T173238
CREATED:20190301T163818Z
LAST-MODIFIED:20190301T163818Z
UID:2193-1552482000-1552489200@rockrapids.com
SUMMARY:Central Lyon 1 pm Dismissal
DESCRIPTION:
URL:https://rockrapids.com/event/central-lyon-1-pm-dismissal/
LOCATION:IA
END:VEVENT
BEGIN:VEVENT
DTSTART;TZID=America/Chicago:20200108T130000
DTEND;TZID=America/Chicago:20200108T170000
DTSTAMP:20260420T173238
CREATED:20200102T204533Z
LAST-MODIFIED:20200102T204533Z
UID:5125-1578488400-1578502800@rockrapids.com
SUMMARY:1 pm CL Early Dismissal
DESCRIPTION:
URL:https://rockrapids.com/event/1-pm-cl-early-dismissal/
LOCATION:Central Lyon CSD\, 1010 South Greene St.\, Rock Rapids\, IA\, 51246\, United States
END:VEVENT
BEGIN:VEVENT
DTSTART;TZID=America/Chicago:20200819T141500
DTEND;TZID=America/Chicago:20200819T170000
DTSTAMP:20260420T173238
CREATED:20200811T190008Z
LAST-MODIFIED:20210113T162650Z
UID:30937-1597846500-1597856400@rockrapids.com
SUMMARY:Central Lyon 2:15 pm Dismissal
DESCRIPTION:
URL:https://rockrapids.com/event/central-lyon-215-pm-dismissal/
LOCATION:Rock Rapids\, IA\, 51246\, United States
END:VEVENT
BEGIN:VEVENT
DTSTART;TZID=America/Chicago:20210311T173000
DTEND;TZID=America/Chicago:20210311T203000
DTSTAMP:20260420T173238
CREATED:20210226T160026Z
LAST-MODIFIED:20210226T160026Z
UID:31950-1615483800-1615494600@rockrapids.com
SUMMARY:Central Lyon Parent Teacher Conferences
DESCRIPTION:
URL:https://rockrapids.com/event/central-lyon-parent-teacher-conferences-6/
LOCATION:Central Lyon\, 1010 S. Greene St.\, IA\, United States
CATEGORIES:Front Page
END:VEVENT
BEGIN:VEVENT
DTSTART;TZID=America/Chicago:20210312T080000
DTEND;TZID=America/Chicago:20210312T170000
DTSTAMP:20260420T173238
CREATED:20210226T160056Z
LAST-MODIFIED:20210226T160056Z
UID:31953-1615536000-1615568400@rockrapids.com
SUMMARY:Central Lyon No School
DESCRIPTION:
URL:https://rockrapids.com/event/central-lyon-no-school-12/
LOCATION:Rock Rapids\, IA\, 51246\, United States
END:VEVENT
BEGIN:VEVENT
DTSTART;TZID=America/Chicago:20210312T170000
DTEND;TZID=America/Chicago:20210312T190000
DTSTAMP:20260420T173238
CREATED:20210226T151559Z
LAST-MODIFIED:20210226T151559Z
UID:31863-1615568400-1615575600@rockrapids.com
SUMMARY:Knights of Columbus Drive Thru Fish Fry
DESCRIPTION:Serving: \nFish\, fries\, cole slaw & a bun \n$10 adults \nKids 10 & under $5 \nEnter thru the south parking lot on 12th Ave. \nCall Holy Name 472-3248 with questions
URL:https://rockrapids.com/event/knights-of-columbus-drive-thru-fish-fry/
LOCATION:Holy Name Church\, 1108 S. Carroll\, Rock Rapids\, IA\, 51246\, United States
CATEGORIES:Front Page
END:VEVENT
BEGIN:VEVENT
DTSTART;TZID=America/Chicago:20210314T080000
DTEND;TZID=America/Chicago:20210314T170000
DTSTAMP:20260420T173238
CREATED:20210226T160127Z
LAST-MODIFIED:20210226T160127Z
UID:31957-1615708800-1615741200@rockrapids.com
SUMMARY:Daylight Savings Time Begins
DESCRIPTION:
URL:https://rockrapids.com/event/daylight-savings-time-begins-2/
LOCATION:Rock Rapids\, IA\, 51246\, United States
CATEGORIES:Front Page
END:VEVENT
BEGIN:VEVENT
DTSTART;TZID=America/Chicago:20190318T193000
DTEND;TZID=America/Chicago:20190318T203000
DTSTAMP:20260420T173238
CREATED:20190301T165050Z
LAST-MODIFIED:20190301T165050Z
UID:2210-1552937400-1552941000@rockrapids.com
SUMMARY:VFW
DESCRIPTION:
URL:https://rockrapids.com/event/vfw/
LOCATION:Forster Community Center
END:VEVENT
BEGIN:VEVENT
DTSTART;TZID=America/Chicago:20190715T193000
DTEND;TZID=America/Chicago:20190715T203000
DTSTAMP:20260420T173238
CREATED:20190625T192549Z
LAST-MODIFIED:20190625T192549Z
UID:3639-1563219000-1563222600@rockrapids.com
SUMMARY:VFW
DESCRIPTION:
URL:https://rockrapids.com/event/vfw-3/
LOCATION:VFW\, Rock Rapids\, IA\, 51246\, United States
END:VEVENT
BEGIN:VEVENT
DTSTART;TZID=America/Chicago:20190715T193000
DTEND;TZID=America/Chicago:20190715T203000
DTSTAMP:20260420T173238
CREATED:20190626T152700Z
LAST-MODIFIED:20190626T152700Z
UID:3915-1563219000-1563222600@rockrapids.com
SUMMARY:VFW
DESCRIPTION:
URL:https://rockrapids.com/event/vfw-4/
LOCATION:VFW\, Rock Rapids\, IA\, 51246\, United States
END:VEVENT
BEGIN:VEVENT
DTSTART;TZID=America/Chicago:20190319T120000
DTEND;TZID=America/Chicago:20190319T130000
DTSTAMP:20260420T173238
CREATED:20190301T165153Z
LAST-MODIFIED:20190301T165153Z
UID:2212-1552996800-1553000400@rockrapids.com
SUMMARY:Recreation Board
DESCRIPTION:
URL:https://rockrapids.com/event/recreation-board/
LOCATION:IA
END:VEVENT
BEGIN:VEVENT
DTSTART;TZID=America/Chicago:20190716T120000
DTEND;TZID=America/Chicago:20190716T130000
DTSTAMP:20260420T173238
CREATED:20190625T193058Z
LAST-MODIFIED:20190625T193058Z
UID:3648-1563278400-1563282000@rockrapids.com
SUMMARY:Recreation Board
DESCRIPTION:
URL:https://rockrapids.com/event/recreation-board-2/
LOCATION:IA
END:VEVENT
BEGIN:VEVENT
DTSTART;TZID=America/Chicago:20190319T170000
DTEND;TZID=America/Chicago:20190319T180000
DTSTAMP:20260420T173238
CREATED:20190301T165235Z
LAST-MODIFIED:20190301T165235Z
UID:2215-1553014800-1553018400@rockrapids.com
SUMMARY:Mural Society
DESCRIPTION:
URL:https://rockrapids.com/event/mural-society/
LOCATION:IA
END:VEVENT
END:VCALENDAR