BEGIN:VCALENDAR
VERSION:2.0
PRODID:-//Rock Rapids - ECPv6.15.20//NONSGML v1.0//EN
CALSCALE:GREGORIAN
METHOD:PUBLISH
X-WR-CALNAME:Rock Rapids
X-ORIGINAL-URL:https://rockrapids.com
X-WR-CALDESC:Events for Rock Rapids
REFRESH-INTERVAL;VALUE=DURATION:PT1H
X-Robots-Tag:noindex
X-PUBLISHED-TTL:PT1H
BEGIN:VTIMEZONE
TZID:America/Chicago
BEGIN:DAYLIGHT
TZOFFSETFROM:-0600
TZOFFSETTO:-0500
TZNAME:CDT
DTSTART:20180311T080000
END:DAYLIGHT
BEGIN:STANDARD
TZOFFSETFROM:-0500
TZOFFSETTO:-0600
TZNAME:CST
DTSTART:20181104T070000
END:STANDARD
BEGIN:DAYLIGHT
TZOFFSETFROM:-0600
TZOFFSETTO:-0500
TZNAME:CDT
DTSTART:20190310T080000
END:DAYLIGHT
BEGIN:STANDARD
TZOFFSETFROM:-0500
TZOFFSETTO:-0600
TZNAME:CST
DTSTART:20191103T070000
END:STANDARD
BEGIN:DAYLIGHT
TZOFFSETFROM:-0600
TZOFFSETTO:-0500
TZNAME:CDT
DTSTART:20200308T080000
END:DAYLIGHT
BEGIN:STANDARD
TZOFFSETFROM:-0500
TZOFFSETTO:-0600
TZNAME:CST
DTSTART:20201101T070000
END:STANDARD
BEGIN:DAYLIGHT
TZOFFSETFROM:-0600
TZOFFSETTO:-0500
TZNAME:CDT
DTSTART:20210314T080000
END:DAYLIGHT
BEGIN:STANDARD
TZOFFSETFROM:-0500
TZOFFSETTO:-0600
TZNAME:CST
DTSTART:20211107T070000
END:STANDARD
END:VTIMEZONE
BEGIN:VEVENT
DTSTART;TZID=America/Chicago:20201210T160000
DTEND;TZID=America/Chicago:20201210T190000
DTSTAMP:20260420T223530
CREATED:20201113T185712Z
LAST-MODIFIED:20201113T185712Z
UID:31297-1607616000-1607626800@rockrapids.com
SUMMARY:Chocolate Walk
DESCRIPTION:Stop into participating businesses for your last minute holiday shopping & indulge in some chocolate! \nEach business will have specials & yummy chocolate treats!
URL:https://rockrapids.com/event/chocolate-walk/
LOCATION:Rock Rapids\, IA\, 51246\, United States
CATEGORIES:Front Page
END:VEVENT
BEGIN:VEVENT
DTSTART;TZID=America/Chicago:20200819T141500
DTEND;TZID=America/Chicago:20200819T170000
DTSTAMP:20260420T223530
CREATED:20200811T190008Z
LAST-MODIFIED:20210113T162650Z
UID:30937-1597846500-1597856400@rockrapids.com
SUMMARY:Central Lyon 2:15 pm Dismissal
DESCRIPTION:
URL:https://rockrapids.com/event/central-lyon-215-pm-dismissal/
LOCATION:Rock Rapids\, IA\, 51246\, United States
END:VEVENT
BEGIN:VEVENT
DTSTART;TZID=America/Chicago:20200108T130000
DTEND;TZID=America/Chicago:20200108T170000
DTSTAMP:20260420T223530
CREATED:20200102T204533Z
LAST-MODIFIED:20200102T204533Z
UID:5125-1578488400-1578502800@rockrapids.com
SUMMARY:1 pm CL Early Dismissal
DESCRIPTION:
URL:https://rockrapids.com/event/1-pm-cl-early-dismissal/
LOCATION:Central Lyon CSD\, 1010 South Greene St.\, Rock Rapids\, IA\, 51246\, United States
END:VEVENT
BEGIN:VEVENT
DTSTART;TZID=America/Chicago:20190313T130000
DTEND;TZID=America/Chicago:20190313T150000
DTSTAMP:20260420T223530
CREATED:20190301T163818Z
LAST-MODIFIED:20190301T163818Z
UID:2193-1552482000-1552489200@rockrapids.com
SUMMARY:Central Lyon 1 pm Dismissal
DESCRIPTION:
URL:https://rockrapids.com/event/central-lyon-1-pm-dismissal/
END:VEVENT
BEGIN:VEVENT
DTSTART;TZID=America/Chicago:20190701T190000
DTEND;TZID=America/Chicago:20190701T200000
DTSTAMP:20260420T223530
CREATED:20190625T192013Z
LAST-MODIFIED:20190625T192721Z
UID:3567-1562007600-1562011200@rockrapids.com
SUMMARY:American Legion Auxiliary
DESCRIPTION:
URL:https://rockrapids.com/event/vfw-auxiliary-3/
LOCATION:Forster Community Center
END:VEVENT
BEGIN:VEVENT
DTSTART;TZID=America/Chicago:20201206T160000
DTEND;TZID=America/Chicago:20201206T173000
DTSTAMP:20260420T223530
CREATED:20201113T184431Z
LAST-MODIFIED:20201113T184630Z
UID:31273-1607270400-1607275800@rockrapids.com
SUMMARY:Rhythm of Bethlehem
DESCRIPTION:
URL:https://rockrapids.com/event/rhythm-of-bethlehem/
LOCATION:United Methodist Church\, Rock Rapids\, IA\, 51246\, United States
CATEGORIES:Front Page
END:VEVENT
BEGIN:VEVENT
DTSTART;TZID=America/Chicago:20201206T170000
DTEND;TZID=America/Chicago:20201206T170000
DTSTAMP:20260420T223530
CREATED:20201113T184150Z
LAST-MODIFIED:20201113T184150Z
UID:31270-1607274000-1607274000@rockrapids.com
SUMMARY:First Reformed Church Children's Christmas Pgm
DESCRIPTION:
URL:https://rockrapids.com/event/first-reformed-church-childrens-christmas-pgm/
LOCATION:Rock Rapids\, IA\, 51246\, United States
CATEGORIES:Front Page
END:VEVENT
BEGIN:VEVENT
DTSTART;TZID=America/Chicago:20201206T160000
DTEND;TZID=America/Chicago:20201206T173000
DTSTAMP:20260420T223530
CREATED:20201113T184431Z
LAST-MODIFIED:20201113T184630Z
UID:31273-1607270400-1607275800@rockrapids.com
SUMMARY:Rhythm of Bethlehem
DESCRIPTION:
URL:https://rockrapids.com/event/rhythm-of-bethlehem/
LOCATION:United Methodist Church\, Rock Rapids\, IA\, 51246\, United States
CATEGORIES:Front Page
END:VEVENT
BEGIN:VEVENT
DTSTART;TZID=America/Chicago:20201204T173000
DTEND;TZID=America/Chicago:20201204T190000
DTSTAMP:20260420T223530
CREATED:20201113T185528Z
LAST-MODIFIED:20201113T185528Z
UID:31295-1607103000-1607108400@rockrapids.com
SUMMARY:CLEA Burger Feed
DESCRIPTION:
URL:https://rockrapids.com/event/clea-burger-feed/
LOCATION:Central Lyon\, 1010 S. Greene St.\, IA\, United States
CATEGORIES:Front Page
END:VEVENT
BEGIN:VEVENT
DTSTART;TZID=America/Chicago:20201203T170000
DTEND;TZID=America/Chicago:20201203T190000
DTSTAMP:20260420T223530
CREATED:20200909T170121Z
LAST-MODIFIED:20201113T192113Z
UID:31091-1607014800-1607022000@rockrapids.com
SUMMARY:Community Holiday Events
DESCRIPTION:Thursday\, Dec. 3rd \nRock Rapids Community Holiday Events \n5:00-7:00 pm Santa’s Mailbox outside of Rosie’s \nKids can mail their letters to Santa & drop off their pictures to be displayed in store windows \n6:00-7:00 pm Downtown Living Windows\, Live Nativity Scene & Hot Chocolate at Rosie’s \n6:30 pm Downtown Parade of Lights
URL:https://rockrapids.com/event/community-holiday-events-2/
LOCATION:Rock Rapids\, IA\, 51246\, United States
CATEGORIES:Front Page
ORGANIZER;CN="Angie Jager":MAILTO:chamber@rockrapids.com
END:VEVENT
BEGIN:VEVENT
DTSTART;TZID=America/Chicago:20200102T120000
DTEND;TZID=America/Chicago:20200102T130000
DTSTAMP:20260420T223530
CREATED:20191025T204555Z
LAST-MODIFIED:20191025T204742Z
UID:4662-1577966400-1577970000@rockrapids.com
SUMMARY:Kiwanis
DESCRIPTION:
URL:https://rockrapids.com/event/kiwanis-3/
LOCATION:Pizza Ranch\, 205 South Union\, Rock Rapids\, IA\, 51246\, United States
END:VEVENT
BEGIN:VEVENT
DTSTART;TZID=America/Chicago:20200819T141500
DTEND;TZID=America/Chicago:20200819T170000
DTSTAMP:20260420T223530
CREATED:20200811T190008Z
LAST-MODIFIED:20210113T162650Z
UID:30937-1597846500-1597856400@rockrapids.com
SUMMARY:Central Lyon 2:15 pm Dismissal
DESCRIPTION:
URL:https://rockrapids.com/event/central-lyon-215-pm-dismissal/
LOCATION:Rock Rapids\, IA\, 51246\, United States
END:VEVENT
BEGIN:VEVENT
DTSTART;TZID=America/Chicago:20200107T120000
DTEND;TZID=America/Chicago:20200107T130000
DTSTAMP:20260420T223530
CREATED:20191025T205104Z
LAST-MODIFIED:20191025T205104Z
UID:4697-1578398400-1578402000@rockrapids.com
SUMMARY:Chamber Board
DESCRIPTION:
URL:https://rockrapids.com/event/chamber-board/
LOCATION:Chamber Office\, Rock Rapids\, IA\, 51246\, United States
END:VEVENT
BEGIN:VEVENT
DTSTART;TZID=America/Chicago:20201128T090000
DTEND;TZID=America/Chicago:20201128T160000
DTSTAMP:20260420T223530
CREATED:20201113T184053Z
LAST-MODIFIED:20201113T184053Z
UID:31267-1606554000-1606579200@rockrapids.com
SUMMARY:Small Business Saturday
DESCRIPTION:
URL:https://rockrapids.com/event/small-business-saturday-2/
LOCATION:Rock Rapids\, IA\, 51246\, United States
CATEGORIES:Front Page
END:VEVENT
BEGIN:VEVENT
DTSTART;TZID=America/Chicago:20201127T060000
DTEND;TZID=America/Chicago:20201127T160000
DTSTAMP:20260420T223530
CREATED:20201113T184000Z
LAST-MODIFIED:20201113T184000Z
UID:31264-1606456800-1606492800@rockrapids.com
SUMMARY:Black Friday
DESCRIPTION:
URL:https://rockrapids.com/event/black-friday/
LOCATION:Rock Rapids\, IA\, 51246\, United States
CATEGORIES:Front Page
END:VEVENT
BEGIN:VEVENT
DTSTART;TZID=America/Chicago:20201126T110000
DTEND;TZID=America/Chicago:20201126T130000
DTSTAMP:20260420T223530
CREATED:20201113T185200Z
LAST-MODIFIED:20201113T185200Z
UID:31292-1606388400-1606395600@rockrapids.com
SUMMARY:First Reformed Church Free Thanksgiving Meal-DELIVERY ONLY
DESCRIPTION:
URL:https://rockrapids.com/event/first-reformed-church-free-thanksgiving-meal-delivery-only/
LOCATION:Rock Rapids\, IA\, 51246\, United States
CATEGORIES:Front Page
END:VEVENT
BEGIN:VEVENT
DTSTART;TZID=America/Chicago:20201126T080000
DTEND;TZID=America/Chicago:20201127T153000
DTSTAMP:20260420T223530
CREATED:20201113T185913Z
LAST-MODIFIED:20201113T185913Z
UID:31303-1606377600-1606491000@rockrapids.com
SUMMARY:Central Lyon No School
DESCRIPTION:
URL:https://rockrapids.com/event/central-lyon-no-school-8/
LOCATION:Rock Rapids\, IA\, 51246\, United States
END:VEVENT
BEGIN:VEVENT
DTSTART;TZID=America/Chicago:20201126T080000
DTEND;TZID=America/Chicago:20201126T170000
DTSTAMP:20260420T223530
CREATED:20201113T185105Z
LAST-MODIFIED:20201113T185105Z
UID:31289-1606377600-1606410000@rockrapids.com
SUMMARY:Happy Thanksgiving
DESCRIPTION:
URL:https://rockrapids.com/event/happy-thanksgiving/
LOCATION:Rock Rapids\, IA\, 51246\, United States
CATEGORIES:Front Page
END:VEVENT
BEGIN:VEVENT
DTSTART;TZID=America/Chicago:20200819T141500
DTEND;TZID=America/Chicago:20200819T170000
DTSTAMP:20260420T223530
CREATED:20200811T190008Z
LAST-MODIFIED:20210113T162650Z
UID:30937-1597846500-1597856400@rockrapids.com
SUMMARY:Central Lyon 2:15 pm Dismissal
DESCRIPTION:
URL:https://rockrapids.com/event/central-lyon-215-pm-dismissal/
LOCATION:Rock Rapids\, IA\, 51246\, United States
END:VEVENT
BEGIN:VEVENT
DTSTART;TZID=America/Chicago:20190311T174500
DTEND;TZID=America/Chicago:20190311T190000
DTSTAMP:20260420T223530
CREATED:20190301T162952Z
LAST-MODIFIED:20190301T162952Z
UID:2179-1552326300-1552330800@rockrapids.com
SUMMARY:City Council
DESCRIPTION:
URL:https://rockrapids.com/event/city-council/
LOCATION:Forster Community Center
END:VEVENT
BEGIN:VEVENT
DTSTART;TZID=America/Chicago:20201119T170000
DTEND;TZID=America/Chicago:20201119T200000
DTSTAMP:20260420T223530
CREATED:20201113T183824Z
LAST-MODIFIED:20201113T183824Z
UID:31258-1605805200-1605816000@rockrapids.com
SUMMARY:Fire Dept. Delivery Tip Night
DESCRIPTION:
URL:https://rockrapids.com/event/fire-dept-delivery-tip-night-2/
LOCATION:Rock Rapids\, IA\, 51246\, United States
CATEGORIES:Front Page
END:VEVENT
BEGIN:VEVENT
DTSTART;TZID=America/Chicago:20201118T180000
DTEND;TZID=America/Chicago:20201118T190000
DTSTAMP:20260420T223530
CREATED:20201113T184920Z
LAST-MODIFIED:20201113T184920Z
UID:31283-1605722400-1605726000@rockrapids.com
SUMMARY:Atlas Bread of Life Food Ministry
DESCRIPTION:
URL:https://rockrapids.com/event/atlas-bread-of-life-food-ministry-11/
LOCATION:Rock Rapids\, IA\, 51246\, United States
END:VEVENT
BEGIN:VEVENT
DTSTART;TZID=America/Chicago:20200819T141500
DTEND;TZID=America/Chicago:20200819T170000
DTSTAMP:20260420T223530
CREATED:20200811T190008Z
LAST-MODIFIED:20210113T162650Z
UID:30937-1597846500-1597856400@rockrapids.com
SUMMARY:Central Lyon 2:15 pm Dismissal
DESCRIPTION:
URL:https://rockrapids.com/event/central-lyon-215-pm-dismissal/
LOCATION:Rock Rapids\, IA\, 51246\, United States
END:VEVENT
BEGIN:VEVENT
DTSTART;TZID=America/Chicago:20200115T120000
DTEND;TZID=America/Chicago:20200115T130000
DTSTAMP:20260420T223530
CREATED:20200102T204643Z
LAST-MODIFIED:20200102T204643Z
UID:5126-1579089600-1579093200@rockrapids.com
SUMMARY:Rock Rapids Business Women
DESCRIPTION:
URL:https://rockrapids.com/event/rock-rapids-business-women-3/
LOCATION:Frontier Bank Basement\, 301 1st Ave.\, Rock Rapids\, IA\, 51246\, United States
END:VEVENT
BEGIN:VEVENT
DTSTART;TZID=America/Chicago:20190320T120000
DTEND;TZID=America/Chicago:20190320T130000
DTSTAMP:20260420T223530
CREATED:20190301T165408Z
LAST-MODIFIED:20190301T165408Z
UID:2218-1553083200-1553086800@rockrapids.com
SUMMARY:Rock Rapids Business Women
DESCRIPTION:
URL:https://rockrapids.com/event/rock-rapids-business-women/
LOCATION:Frontier Bank Basement\, 301 1st Ave.\, Rock Rapids\, IA\, 51246\, United States
END:VEVENT
BEGIN:VEVENT
DTSTART;TZID=America/Chicago:20201118T120000
DTEND;TZID=America/Chicago:20201118T120000
DTSTAMP:20260420T223530
CREATED:20201113T185004Z
LAST-MODIFIED:20201113T185004Z
UID:31286-1605700800-1605700800@rockrapids.com
SUMMARY:Rock Rapids Business Women
DESCRIPTION:
URL:https://rockrapids.com/event/rock-rapids-business-women-6/
LOCATION:Rock Rapids\, IA\, 51246\, United States
END:VEVENT
BEGIN:VEVENT
DTSTART;TZID=America/Chicago:20201117T190000
DTEND;TZID=America/Chicago:20201117T210000
DTSTAMP:20260420T223530
CREATED:20201113T183913Z
LAST-MODIFIED:20201113T183913Z
UID:31261-1605639600-1605646800@rockrapids.com
SUMMARY:CL 6th-8th Band & Coir Concert
DESCRIPTION:
URL:https://rockrapids.com/event/cl-6th-8th-band-coir-concert/
LOCATION:Rock Rapids\, IA\, 51246\, United States
END:VEVENT
BEGIN:VEVENT
DTSTART;TZID=America/Chicago:20190716T170000
DTEND;TZID=America/Chicago:20190716T180000
DTSTAMP:20260420T223530
CREATED:20190625T193152Z
LAST-MODIFIED:20190625T193152Z
UID:3651-1563296400-1563300000@rockrapids.com
SUMMARY:Mural Society
DESCRIPTION:
URL:https://rockrapids.com/event/mural-society-2/
LOCATION:Chamber Office\, Rock Rapids\, IA\, 51246\, United States
END:VEVENT
BEGIN:VEVENT
DTSTART;TZID=America/Chicago:20190319T170000
DTEND;TZID=America/Chicago:20190319T180000
DTSTAMP:20260420T223530
CREATED:20190301T165235Z
LAST-MODIFIED:20190301T165235Z
UID:2215-1553014800-1553018400@rockrapids.com
SUMMARY:Mural Society
DESCRIPTION:
URL:https://rockrapids.com/event/mural-society/
END:VEVENT
BEGIN:VEVENT
DTSTART;TZID=America/Chicago:20190716T120000
DTEND;TZID=America/Chicago:20190716T130000
DTSTAMP:20260420T223530
CREATED:20190625T193058Z
LAST-MODIFIED:20190625T193058Z
UID:3648-1563278400-1563282000@rockrapids.com
SUMMARY:Recreation Board
DESCRIPTION:
URL:https://rockrapids.com/event/recreation-board-2/
END:VEVENT
END:VCALENDAR